BEGIN:VCALENDAR
VERSION:2.0
PRODID:SchoolNow
CALSCALE:GREGORIAN
BEGIN:VEVENT
UID:2acad2d0-3507-11ed-b473-0e92832e384f
DTSTAMP:20220915T151015Z
SUMMARY:Spring 2023- Veteran Advising/Registration Begins
URL;VALUE=URI:https://www.ladelta.edu/calendar/3397046/veteran-advising-reg
 istration-begins
DTSTART;VALUE=DATE:20221013
DTEND;VALUE=DATE:20221014
END:VEVENT
END:VCALENDAR
