BEGIN:VCALENDAR
VERSION:2.0
PRODID:SchoolNow
CALSCALE:GREGORIAN
BEGIN:VEVENT
UID:413f69d6-3507-11ed-985d-0e92832e384f
DTSTAMP:20220915T151048Z
SUMMARY:Spring 2023- Advising Begins for All Students
URL;VALUE=URI:https://www.ladelta.edu/calendar/3397047/advising-begins-for-
 all-students
DTSTART;VALUE=DATE:20221017
DTEND;VALUE=DATE:20221018
END:VEVENT
END:VCALENDAR
