BEGIN:VCALENDAR
VERSION:2.0
PRODID:SchoolNow
CALSCALE:GREGORIAN
BEGIN:VEVENT
UID:5f3ba3fa-3507-11ed-9446-0e92832e384f
DTSTAMP:20220915T151154Z
SUMMARY:Spring 2023- Registration begins for Currently Enrolled Students
URL;VALUE=URI:https://www.ladelta.edu/calendar/3397048/registration-begins-
 for-currently-enrolled-students
DTSTART;VALUE=DATE:20221017
DTEND;VALUE=DATE:20221018
END:VEVENT
END:VCALENDAR
