BEGIN:VCALENDAR
VERSION:2.0
PRODID:SchoolNow
CALSCALE:GREGORIAN
BEGIN:VEVENT
UID:8603f3ac-3507-11ed-9fb2-0e92832e384f
DTSTAMP:20220915T151218Z
SUMMARY:Spring 2023- Registration begins for New Students
URL;VALUE=URI:https://www.ladelta.edu/calendar/3397052/registration-begins-
 for-new-students
DTSTART;VALUE=DATE:20221024
DTEND;VALUE=DATE:20221025
END:VEVENT
END:VCALENDAR
