BEGIN:VCALENDAR
VERSION:2.0
PRODID:SchoolNow
CALSCALE:GREGORIAN
BEGIN:VEVENT
UID:9808d324-3507-11ed-98a0-0e92832e384f
DTSTAMP:20220915T151236Z
SUMMARY:Spring 2023- FASFA Completion Priority Deadline
URL;VALUE=URI:https://www.ladelta.edu/calendar/3397054/fasfa-completion-pri
 ority-deadline
DTSTART;VALUE=DATE:20221117
DTEND;VALUE=DATE:20221118
END:VEVENT
END:VCALENDAR
