BEGIN:VCALENDAR
VERSION:2.0
PRODID:SchoolNow
CALSCALE:GREGORIAN
BEGIN:VEVENT
UID:aba44a12-3507-11ed-a27c-0e92832e384f
DTSTAMP:20220915T151259Z
SUMMARY:Spring 2023- SAP Priority Deadline
URL;VALUE=URI:https://www.ladelta.edu/calendar/3397056/sap-priority-deadlin
 e
DTSTART;VALUE=DATE:20221130
DTEND;VALUE=DATE:20221201
END:VEVENT
END:VCALENDAR
