BEGIN:VCALENDAR
VERSION:2.0
PRODID:SchoolNow
CALSCALE:GREGORIAN
BEGIN:VEVENT
UID:bdc89c8e-3507-11ed-8712-0e92832e384f
DTSTAMP:20220915T151631Z
SUMMARY:Spring 2023- Faculty and Staff Development
URL;VALUE=URI:https://www.ladelta.edu/calendar/3397059/faculty-and-staff-de
 velopment
DTSTART;VALUE=DATE:20230102
DTEND;VALUE=DATE:20230107
END:VEVENT
END:VCALENDAR
