BEGIN:VCALENDAR
VERSION:2.0
PRODID:SchoolNow
CALSCALE:GREGORIAN
BEGIN:VEVENT
UID:ee032ebe-3507-11ed-b995-0e92832e384f
DTSTAMP:20220915T151429Z
SUMMARY:Winter 2023- Financial Aid Book Credit Available
URL;VALUE=URI:https://www.ladelta.edu/calendar/3397064/winter-term-financia
 l-aid-book-credit-available
DTSTART;VALUE=DATE:20221205
DTEND;VALUE=DATE:20221210
END:VEVENT
END:VCALENDAR
