BEGIN:VCALENDAR
VERSION:2.0
PRODID:SchoolNow
CALSCALE:GREGORIAN
BEGIN:VEVENT
UID:1618fd84-3508-11ed-a178-0e92832e384f
DTSTAMP:20220915T151910Z
SUMMARY:Spring 2023- Full Term and First Half Term-Financial Aid Book Credi
 t Available
URL;VALUE=URI:https://www.ladelta.edu/calendar/3397065/spring-2023-full-ter
 m-and-first-half-term-financial-aid-book-credit-available
DTSTART;VALUE=DATE:20230109
DTEND;VALUE=DATE:20230128
END:VEVENT
END:VCALENDAR
