BEGIN:VCALENDAR
VERSION:2.0
PRODID:SchoolNow
CALSCALE:GREGORIAN
BEGIN:VEVENT
UID:2c1be95c-3508-11ed-a35b-0e92832e384f
DTSTAMP:20220915T151924Z
SUMMARY:Spring 2023- Second Half Term-Financial Aid Book Credit Available
URL;VALUE=URI:https://www.ladelta.edu/calendar/3397066/spring-2023-second-h
 alf-term-financial-aid-book-credit-available
DTSTART;VALUE=DATE:20230306
DTEND;VALUE=DATE:20230311
END:VEVENT
END:VCALENDAR
