BEGIN:VCALENDAR
VERSION:2.0
PRODID:SchoolNow
CALSCALE:GREGORIAN
BEGIN:VEVENT
UID:656e1cf2-3508-11ed-add2-0e92832e384f
DTSTAMP:20220915T152105Z
SUMMARY:Spring 2023- Regular Registration Payment Deadline (1st Purge)  at 
 2:00 P.M.
URL;VALUE=URI:https://www.ladelta.edu/calendar/3397067/spring-2023-regular-
 registration-payment-deadline-1st-purge-at-2-00-p-m
DTSTART:20230105T200000Z
DTEND:20230105T210000Z
END:VEVENT
END:VCALENDAR
