BEGIN:VCALENDAR
VERSION:2.0
PRODID:SchoolNow
CALSCALE:GREGORIAN
BEGIN:VEVENT
UID:36a59a92-350a-11ed-90f5-0e92832e384f
DTSTAMP:20221018T142635Z
SUMMARY:Spring 2023- Late Registration
URL;VALUE=URI:https://www.ladelta.edu/calendar/3397088/spring-2023-late-reg
 istration-full-term-classes
DTSTART;VALUE=DATE:20230106
DTEND;VALUE=DATE:20230113
END:VEVENT
END:VCALENDAR
