BEGIN:VCALENDAR
VERSION:2.0
PRODID:SchoolNow
CALSCALE:GREGORIAN
BEGIN:VEVENT
UID:09b6a296-350b-11ed-9022-0e92832e384f
DTSTAMP:20220915T152954Z
SUMMARY:Spring 2023- Last Day to Add First Half Term Classes
URL;VALUE=URI:https://www.ladelta.edu/calendar/3397096/spring-2023-late-reg
 istration-first-half-term-classes
DTSTART;VALUE=DATE:20230110
DTEND;VALUE=DATE:20230111
END:VEVENT
END:VCALENDAR
