BEGIN:VCALENDAR
VERSION:2.0
PRODID:SchoolNow
CALSCALE:GREGORIAN
BEGIN:VEVENT
UID:64fd8ff2-350b-11ed-8e68-0e92832e384f
DTSTAMP:20220915T153057Z
SUMMARY:Spring 2023- Last Day to Add Full Term Classes at 2:00 P.M.
URL;VALUE=URI:https://www.ladelta.edu/calendar/3397101/spring-2023-last-day
 -to-add-full-term-classes-at-2-00-p-m
DTSTART;VALUE=DATE:20230112
DTEND;VALUE=DATE:20230113
END:VEVENT
END:VCALENDAR
