BEGIN:VCALENDAR
VERSION:2.0
PRODID:SchoolNow
CALSCALE:GREGORIAN
BEGIN:VEVENT
UID:777bab32-350b-11ed-90ad-0e92832e384f
DTSTAMP:20220915T153128Z
SUMMARY:Spring 2023- Last Day to Add Second Half Term Classes
URL;VALUE=URI:https://www.ladelta.edu/calendar/3397103/spring-2023-last-day
 -to-add-second-half-term-classes
DTSTART;VALUE=DATE:20230307
DTEND;VALUE=DATE:20230308
END:VEVENT
END:VCALENDAR
