BEGIN:VCALENDAR
VERSION:2.0
PRODID:SchoolNow
CALSCALE:GREGORIAN
BEGIN:VEVENT
UID:a1d8b262-350b-11ed-ab32-0e92832e384f
DTSTAMP:20220915T153239Z
SUMMARY:Spring 2023- Winter Term Classes Begin
URL;VALUE=URI:https://www.ladelta.edu/calendar/3397105/spring-2023-winter-t
 erm-classes-begin
DTSTART;VALUE=DATE:20221206
DTEND;VALUE=DATE:20221207
END:VEVENT
END:VCALENDAR
