BEGIN:VCALENDAR
VERSION:2.0
PRODID:SchoolNow
CALSCALE:GREGORIAN
BEGIN:VEVENT
UID:b6c33cce-350b-11ed-9bf1-0e92832e384f
DTSTAMP:20220915T153314Z
SUMMARY:Spring 2023- Full Term and First Half Term Classes Begin
URL;VALUE=URI:https://www.ladelta.edu/calendar/3397106/spring-2023-full-ter
 m-and-first-half-term-classes-begin
DTSTART;VALUE=DATE:20230109
DTEND;VALUE=DATE:20230110
END:VEVENT
END:VCALENDAR
