BEGIN:VCALENDAR
VERSION:2.0
PRODID:SchoolNow
CALSCALE:GREGORIAN
BEGIN:VEVENT
UID:c9e00f4e-350b-11ed-99c7-0e92832e384f
DTSTAMP:20220915T153346Z
SUMMARY:Spring 2023- Second Half Term Classes Begin
URL;VALUE=URI:https://www.ladelta.edu/calendar/3397107/spring-2023-second-h
 alf-term-classes-begin
DTSTART;VALUE=DATE:20230306
DTEND;VALUE=DATE:20230307
END:VEVENT
END:VCALENDAR
