BEGIN:VCALENDAR
VERSION:2.0
PRODID:SchoolNow
CALSCALE:GREGORIAN
BEGIN:VEVENT
UID:f9e552e4-350b-11ed-915a-0e92832e384f
DTSTAMP:20220915T153507Z
SUMMARY:Spring 2023- Last Day to add Winter Term Class
URL;VALUE=URI:https://www.ladelta.edu/calendar/3397108/spring-2023-last-day
 -to-add-winter-term-class
DTSTART;VALUE=DATE:20221207
DTEND;VALUE=DATE:20221208
END:VEVENT
END:VCALENDAR
