BEGIN:VCALENDAR
VERSION:2.0
PRODID:SchoolNow
CALSCALE:GREGORIAN
BEGIN:VEVENT
UID:14164196-350c-11ed-9ed2-0e92832e384f
DTSTAMP:20220915T153551Z
SUMMARY:Spring 2023- Last Day to Drop with 100% Tuition Refund for Winter T
 erm Class
URL;VALUE=URI:https://www.ladelta.edu/calendar/3397109/spring-2023-last-day
 -to-drop-with-100-tuition-refund-for-winter-term-class
DTSTART:20221207T163500Z
DTEND:20221207T173500Z
END:VEVENT
END:VCALENDAR
