BEGIN:VCALENDAR
VERSION:2.0
PRODID:SchoolNow
CALSCALE:GREGORIAN
BEGIN:VEVENT
UID:226c6e82-350c-11ed-a841-0e92832e384f
DTSTAMP:20220915T153736Z
SUMMARY:Spring 2023- Last Day to Drop with 100% Tuition Refund for Full Ter
 m Class by 2:00 P.M.
URL;VALUE=URI:https://www.ladelta.edu/calendar/3397110/spring-2023-last-day
 -to-drop-with-100-tuition-refund-for-full-term-class
DTSTART;VALUE=DATE:20230112
DTEND;VALUE=DATE:20230113
END:VEVENT
END:VCALENDAR
