BEGIN:VCALENDAR
VERSION:2.0
PRODID:SchoolNow
CALSCALE:GREGORIAN
BEGIN:VEVENT
UID:2f427160-350c-11ed-844b-0e92832e384f
DTSTAMP:20220915T153636Z
SUMMARY:Spring 2023- Last Day to Drop with 100% Tuition Refund for First Ha
 lf Term Class
URL;VALUE=URI:https://www.ladelta.edu/calendar/3397111/spring-2023-last-day
 -to-drop-with-100-tuition-refund-for-first-half-term-class
DTSTART;VALUE=DATE:20230110
DTEND;VALUE=DATE:20230111
END:VEVENT
END:VCALENDAR
