BEGIN:VCALENDAR
VERSION:2.0
PRODID:SchoolNow
CALSCALE:GREGORIAN
BEGIN:VEVENT
UID:3bfa9a86-350c-11ed-a32a-0e92832e384f
DTSTAMP:20220915T153658Z
SUMMARY:Spring 2023- Last Day to Drop with 100% Tuition Refund for Second H
 alf Term Class
URL;VALUE=URI:https://www.ladelta.edu/calendar/3397112/spring-2023-last-day
 -to-drop-with-100-tuition-refund-for-second-half-term-class
DTSTART;VALUE=DATE:20230307
DTEND;VALUE=DATE:20230308
END:VEVENT
END:VCALENDAR
