BEGIN:VCALENDAR
VERSION:2.0
PRODID:SchoolNow
CALSCALE:GREGORIAN
BEGIN:VEVENT
UID:833d7c4c-350c-11ed-807e-0e92832e384f
DTSTAMP:20220915T153857Z
SUMMARY:Spring 2023- Final Payment Deadline for Winter Term Class by 2:00 P
 .M.
URL;VALUE=URI:https://www.ladelta.edu/calendar/3397113/spring-2023-final-pa
 yment-deadline-for-winter-term-class-by-2-00-p-m
DTSTART:20221208T163700Z
DTEND:20221208T200000Z
END:VEVENT
END:VCALENDAR
