BEGIN:VCALENDAR
VERSION:2.0
PRODID:SchoolNow
CALSCALE:GREGORIAN
BEGIN:VEVENT
UID:a0a5fdf4-350c-11ed-8ec5-0e92832e384f
DTSTAMP:20220915T154229Z
SUMMARY:Spring 2023- Final Payment Deadline for Full Term and First Half Te
 rm Classes by 2:00 P.M.
URL;VALUE=URI:https://www.ladelta.edu/calendar/3397114/spring-2023-final-pa
 yment-deadline-for-full-term-and-first-half-term-classes-by-2-00-p-m
DTSTART:20230112T163900Z
DTEND:20230112T173900Z
END:VEVENT
END:VCALENDAR
