BEGIN:VCALENDAR
VERSION:2.0
PRODID:SchoolNow
CALSCALE:GREGORIAN
BEGIN:VEVENT
UID:e13e7094-350c-11ed-af38-0e92832e384f
DTSTAMP:20220915T154220Z
SUMMARY:Spring 2023- Final Payment Deadline for Second Half Term Classes by
  2:00 P.M.
URL;VALUE=URI:https://www.ladelta.edu/calendar/3397116/spring-2023-final-pa
 yment-deadline-for-second-half-term-classes-by-2-00-p-m
DTSTART:20230309T164100Z
DTEND:20230309T200000Z
END:VEVENT
END:VCALENDAR
