BEGIN:VCALENDAR
VERSION:2.0
PRODID:SchoolNow
CALSCALE:GREGORIAN
BEGIN:VEVENT
UID:1ff72b96-350d-11ed-bae3-0e92832e384f
DTSTAMP:20220915T154347Z
SUMMARY:Spring 2023- Attendance Reporting Due for Winter Term Classes by 12
 :00 P.M.
URL;VALUE=URI:https://www.ladelta.edu/calendar/3397122/spring-2023-attendan
 ce-reporting-due-by-12-00-p-m
DTSTART;VALUE=DATE:20221212
DTEND;VALUE=DATE:20221213
END:VEVENT
END:VCALENDAR
