BEGIN:VCALENDAR
VERSION:2.0
PRODID:SchoolNow
CALSCALE:GREGORIAN
BEGIN:VEVENT
UID:4056d440-350d-11ed-9a82-0e92832e384f
DTSTAMP:20220915T154414Z
SUMMARY:Spring 2023- Attendance Reporting Due for Full Term and First Half 
 Term Classes by 12:00 P.M.
URL;VALUE=URI:https://www.ladelta.edu/calendar/3397124/spring-2023-attendan
 ce-reporting-due-for-full-term-and-first-half-term-classes-by-12-00-p-m
DTSTART;VALUE=DATE:20230117
DTEND;VALUE=DATE:20230118
END:VEVENT
END:VCALENDAR
