BEGIN:VCALENDAR
VERSION:2.0
PRODID:SchoolNow
CALSCALE:GREGORIAN
BEGIN:VEVENT
UID:a214d38a-350d-11ed-96ff-0e92832e384f
DTSTAMP:20220915T154658Z
SUMMARY:Spring 2023- Attendance Reporting Due for Second Half Term Classes 
 by 12:00 P.M.
URL;VALUE=URI:https://www.ladelta.edu/calendar/3397130/spring-2023-attendan
 ce-reporting-due-for-second-half-term-classes-by-12-00-p-m
DTSTART;VALUE=DATE:20230313
DTEND;VALUE=DATE:20230314
END:VEVENT
END:VCALENDAR
