BEGIN:VCALENDAR
VERSION:2.0
PRODID:SchoolNow
CALSCALE:GREGORIAN
BEGIN:VEVENT
UID:cce35712-350d-11ed-b113-0e92832e384f
DTSTAMP:20220915T154810Z
SUMMARY:Spring 2023- Last Day to Receive 50% Refund for Full Term Classes O
 nly
URL;VALUE=URI:https://www.ladelta.edu/calendar/3397131/spring-2023-last-day
 -to-receive-50-refund-for-full-term-classes-only
DTSTART;VALUE=DATE:20230119
DTEND;VALUE=DATE:20230120
END:VEVENT
END:VCALENDAR
