BEGIN:VCALENDAR
VERSION:2.0
PRODID:SchoolNow
CALSCALE:GREGORIAN
BEGIN:VEVENT
UID:d9b4a57c-350d-11ed-bcef-0e92832e384f
DTSTAMP:20220915T154832Z
SUMMARY:Spring 2023- Last Day to Receive 25% Refund for Full Term Classes O
 nly
URL;VALUE=URI:https://www.ladelta.edu/calendar/3397132/spring-2023-last-day
 -to-receive-25-refund-for-full-term-classes-only
DTSTART;VALUE=DATE:20230126
DTEND;VALUE=DATE:20230127
END:VEVENT
END:VCALENDAR
