BEGIN:VCALENDAR
VERSION:2.0
PRODID:SchoolNow
CALSCALE:GREGORIAN
BEGIN:VEVENT
UID:ff248a52-350d-11ed-84fa-0e92832e384f
DTSTAMP:20220915T154934Z
SUMMARY:Spring 2023- Financial Aid Disbursement Date for Winter Term\, Full
  Term\, and First Half Term Classes
URL;VALUE=URI:https://www.ladelta.edu/calendar/3397134/spring-2023-financia
 l-aid-disbursement-date-for-winter-term-full-term-and-first-half-term-clas
 ses
DTSTART;VALUE=DATE:20230131
DTEND;VALUE=DATE:20230201
END:VEVENT
END:VCALENDAR
