BEGIN:VCALENDAR
VERSION:2.0
PRODID:SchoolNow
CALSCALE:GREGORIAN
BEGIN:VEVENT
UID:0ba666a6-350e-11ed-bf52-0e92832e384f
DTSTAMP:20220915T154955Z
SUMMARY:Spring 2023- Financial Aid Disbursement Date for Second Half Term C
 lasses
URL;VALUE=URI:https://www.ladelta.edu/calendar/3397136/spring-2023-financia
 l-aid-disbursement-date-for-second-half-term-classes
DTSTART;VALUE=DATE:20230314
DTEND;VALUE=DATE:20230315
END:VEVENT
END:VCALENDAR
