BEGIN:VCALENDAR
VERSION:2.0
PRODID:SchoolNow
CALSCALE:GREGORIAN
BEGIN:VEVENT
UID:1c2e218a-350e-11ed-a055-0e92832e384f
DTSTAMP:20220915T155023Z
SUMMARY:Spring 2023- LDCC Day
URL;VALUE=URI:https://www.ladelta.edu/calendar/3397139/spring-2023-ldcc-day
DTSTART;VALUE=DATE:20230214
DTEND;VALUE=DATE:20230216
END:VEVENT
END:VCALENDAR
