BEGIN:VCALENDAR
VERSION:2.0
PRODID:SchoolNow
CALSCALE:GREGORIAN
BEGIN:VEVENT
UID:4888be66-350e-11ed-a197-0e92832e384f
DTSTAMP:20220915T155138Z
SUMMARY:Spring 2023- Midterm Grading Due for Full Term Classes by 12:00 P.M
 .
URL;VALUE=URI:https://www.ladelta.edu/calendar/3397143/spring-2023-midterm-
 grading-due-for-full-term-classes-by-12-00-p-m
DTSTART;VALUE=DATE:20220915
DTEND;VALUE=DATE:20220916
END:VEVENT
END:VCALENDAR
