BEGIN:VCALENDAR
VERSION:2.0
PRODID:SchoolNow
CALSCALE:GREGORIAN
BEGIN:VEVENT
UID:646e320a-350e-11ed-9e03-0e92832e384f
DTSTAMP:20220915T155224Z
SUMMARY:Spring 2023- Midterm Grading Due for First Half Term Classes by 12:
 00 P.M.
URL;VALUE=URI:https://www.ladelta.edu/calendar/3397144/spring-2023-midterm-
 grading-due-for-first-half-term-classes-by-12-00-p-m
DTSTART;VALUE=DATE:20230213
DTEND;VALUE=DATE:20230214
END:VEVENT
END:VCALENDAR
