BEGIN:VCALENDAR
VERSION:2.0
PRODID:SchoolNow
CALSCALE:GREGORIAN
BEGIN:VEVENT
UID:76a34438-350e-11ed-912a-0e92832e384f
DTSTAMP:20220915T155255Z
SUMMARY:Spring 2023- Midterm Grading Due for Second Half Term Classes by 12
 :00 P.M.
URL;VALUE=URI:https://www.ladelta.edu/calendar/3397145/spring-2023-midterm-
 grading-due-for-second-half-term-classes-by-12-00-p-m
DTSTART;VALUE=DATE:20230403
DTEND;VALUE=DATE:20230404
END:VEVENT
END:VCALENDAR
