BEGIN:VCALENDAR
VERSION:2.0
PRODID:SchoolNow
CALSCALE:GREGORIAN
BEGIN:VEVENT
UID:96dc8c6e-350e-11ed-9038-0e92832e384f
DTSTAMP:20220915T155349Z
SUMMARY:Spring 2023- Last Day to Drop Winter Term class with a Grade of "W"
URL;VALUE=URI:https://www.ladelta.edu/calendar/3397146/spring-2023-last-day
 -to-drop-winter-term-class-with-a-grade-of-w
DTSTART;VALUE=DATE:20230103
DTEND;VALUE=DATE:20230104
END:VEVENT
END:VCALENDAR
