BEGIN:VCALENDAR
VERSION:2.0
PRODID:SchoolNow
CALSCALE:GREGORIAN
BEGIN:VEVENT
UID:a2033278-350e-11ed-bec8-0e92832e384f
DTSTAMP:20220915T155408Z
SUMMARY:Spring 2023- Last Day to Drop Full Term class with a Grade of "W"
URL;VALUE=URI:https://www.ladelta.edu/calendar/3397147/spring-2023-last-day
 -to-drop-full-term-class-with-a-grade-of-w
DTSTART;VALUE=DATE:20230406
DTEND;VALUE=DATE:20230407
END:VEVENT
END:VCALENDAR
