BEGIN:VCALENDAR
VERSION:2.0
PRODID:SchoolNow
CALSCALE:GREGORIAN
BEGIN:VEVENT
UID:aea23ef2-350e-11ed-90ce-0e92832e384f
DTSTAMP:20220915T155429Z
SUMMARY:Spring 2023- Last Day to Drop First Half Term class with a Grade of
  "W"
URL;VALUE=URI:https://www.ladelta.edu/calendar/3397149/spring-2023-last-day
 -to-drop-first-half-term-class-with-a-grade-of-w
DTSTART;VALUE=DATE:20230222
DTEND;VALUE=DATE:20230223
END:VEVENT
END:VCALENDAR
