BEGIN:VCALENDAR
VERSION:2.0
PRODID:SchoolNow
CALSCALE:GREGORIAN
BEGIN:VEVENT
UID:ba104644-350e-11ed-a6cd-0e92832e384f
DTSTAMP:20220915T155448Z
SUMMARY:Spring 2023- Last Day to Drop Second Half Term class with a Grade o
 f "W"
URL;VALUE=URI:https://www.ladelta.edu/calendar/3397150/spring-2023-last-day
 -to-drop-second-half-term-class-with-a-grade-of-w
DTSTART;VALUE=DATE:20230425
DTEND;VALUE=DATE:20230426
END:VEVENT
END:VCALENDAR
