BEGIN:VCALENDAR
VERSION:2.0
PRODID:SchoolNow
CALSCALE:GREGORIAN
BEGIN:VEVENT
UID:cd6d0416-350e-11ed-bfd8-0e92832e384f
DTSTAMP:20220915T155521Z
SUMMARY:Spring 2023- Final Exams for Winter Term Classes
URL;VALUE=URI:https://www.ladelta.edu/calendar/3397153/spring-2023-final-ex
 ams-for-winter-term-classes
DTSTART;VALUE=DATE:20230105
DTEND;VALUE=DATE:20230106
END:VEVENT
END:VCALENDAR
