BEGIN:VCALENDAR
VERSION:2.0
PRODID:SchoolNow
CALSCALE:GREGORIAN
BEGIN:VEVENT
UID:e0195c36-350e-11ed-8043-0e92832e384f
DTSTAMP:20220915T155552Z
SUMMARY:Spring 2023- Final Exams for Full Term Classes
URL;VALUE=URI:https://www.ladelta.edu/calendar/3397154/spring-2023-final-ex
 ams-for-full-term-classes
DTSTART;VALUE=DATE:20230501
DTEND;VALUE=DATE:20230506
END:VEVENT
END:VCALENDAR
