BEGIN:VCALENDAR
VERSION:2.0
PRODID:SchoolNow
CALSCALE:GREGORIAN
BEGIN:VEVENT
UID:ec1f27e0-350e-11ed-a18c-0e92832e384f
DTSTAMP:20220915T155612Z
SUMMARY:Spring 2023- Final Exams for First Half Term Classes
URL;VALUE=URI:https://www.ladelta.edu/calendar/3397155/spring-2023-final-ex
 ams-for-first-half-term-classes
DTSTART;VALUE=DATE:20230302
DTEND;VALUE=DATE:20230303
END:VEVENT
END:VCALENDAR
