BEGIN:VCALENDAR
VERSION:2.0
PRODID:SchoolNow
CALSCALE:GREGORIAN
BEGIN:VEVENT
UID:f6ae1a0e-350e-11ed-a2cd-0e92832e384f
DTSTAMP:20220915T155630Z
SUMMARY:Spring 2023- Final Exams for Second Half Term Classes
URL;VALUE=URI:https://www.ladelta.edu/calendar/3397156/spring-2023-final-ex
 ams-for-second-half-term-classes
DTSTART;VALUE=DATE:20230505
DTEND;VALUE=DATE:20230506
END:VEVENT
END:VCALENDAR
