BEGIN:VCALENDAR
VERSION:2.0
PRODID:SchoolNow
CALSCALE:GREGORIAN
BEGIN:VEVENT
UID:0b142c7c-350f-11ed-bba5-0e92832e384f
DTSTAMP:20220915T155704Z
SUMMARY:Spring 2023- Last Day of Spring 2023 Semester
URL;VALUE=URI:https://www.ladelta.edu/calendar/3397157/spring-2023-last-day
 -of-spring-2023-semester
DTSTART;VALUE=DATE:20230505
DTEND;VALUE=DATE:20230506
END:VEVENT
END:VCALENDAR
