BEGIN:VCALENDAR
VERSION:2.0
PRODID:SchoolNow
CALSCALE:GREGORIAN
BEGIN:VEVENT
UID:34b24f96-350f-11ed-9525-0e92832e384f
DTSTAMP:20220915T155814Z
SUMMARY:LDCC Foundation Hats & Horses
URL;VALUE=URI:https://www.ladelta.edu/calendar/3397158/ldcc-foundation-hats
 -horses
DTSTART;VALUE=DATE:20230506
DTEND;VALUE=DATE:20230507
END:VEVENT
END:VCALENDAR
