BEGIN:VCALENDAR
VERSION:2.0
PRODID:SchoolNow
CALSCALE:GREGORIAN
BEGIN:VEVENT
UID:55389216-350f-11ed-ad9b-0e92832e384f
DTSTAMP:20220915T155908Z
SUMMARY:Spring 2023- Faculty Development
URL;VALUE=URI:https://www.ladelta.edu/calendar/3397159/spring-2023-faculty-
 development
DTSTART;VALUE=DATE:20230509
DTEND;VALUE=DATE:20230517
END:VEVENT
END:VCALENDAR
