BEGIN:VCALENDAR
VERSION:2.0
PRODID:SchoolNow
CALSCALE:GREGORIAN
BEGIN:VEVENT
UID:6746286a-350f-11ed-ae39-0a3a2494b64f
DTSTAMP:20220915T155939Z
SUMMARY:Spring 2023- Degree Award Date
URL;VALUE=URI:https://www.ladelta.edu/calendar/3397160/spring-2023-degree-a
 ward-date
DTSTART;VALUE=DATE:20230512
DTEND;VALUE=DATE:20230513
END:VEVENT
END:VCALENDAR
