BEGIN:VCALENDAR
VERSION:2.0
PRODID:SchoolNow
CALSCALE:GREGORIAN
BEGIN:VEVENT
UID:78578aa4-350f-11ed-851c-0a3a2494b64f
DTSTAMP:20220915T160007Z
SUMMARY:Spring 2023- SAP Review
URL;VALUE=URI:https://www.ladelta.edu/calendar/3397161/spring-2023-sap-revi
 ew
DTSTART;VALUE=DATE:20230515
DTEND;VALUE=DATE:20230516
END:VEVENT
END:VCALENDAR
